BEGIN:VCALENDAR
PRODID:-//eluceo/ical//2.0/EN
VERSION:2.0
CALSCALE:GREGORIAN
BEGIN:VEVENT
UID:event-74
DTSTAMP:20260422T140235Z
SUMMARY:"Deutsches Kino" netwerkbijeenkomst
DESCRIPTION:In het kader van de reeks “Deutsches Kino” van het Duitslan
 d Instituut in samenwerking met het Goethe-Institut organiseert de vakgroe
 p Duits een netwerkbijeenkomst. Een keer per maand draait er in Amsterdam
 /Utrecht/Delft een Duitse film die niet regulier in de bioscopen draait. D
 it zien we als mogelijkheid om vaker tussendoor elkaar te ontmoeten en na 
 de film hierover – in het Duits - van gedachten te wisselen. Ons volgend
 e filmbijeenkomst vindt plaats in Delft op 21 mei. Je bent van harte welko
 m om mee te gaan. Aanmelden graag via de rode knop.
DTSTART:20260521T170000Z
DTEND:20260521T200000Z
LOCATION:Delft
END:VEVENT
BEGIN:VTIMEZONE
TZID:UTC
BEGIN:STANDARD
DTSTART:20260521T170000
TZNAME:UTC
TZOFFSETTO:+0000
TZOFFSETFROM:+0000
END:STANDARD
END:VTIMEZONE
END:VCALENDAR
