BEGIN:VCALENDAR
PRODID:-//eluceo/ical//2.0/EN
VERSION:2.0
CALSCALE:GREGORIAN
BEGIN:VEVENT
UID:event-63
DTSTAMP:20260421T085811Z
SUMMARY:Online webinar: Translating detectives and teamwork in translation
DESCRIPTION:Het vertalen van een boek van een Spaanse auteur in het Amerika
 ans-Engels brengt de nodige hoofdbrekens met zich mee. Wanneer kun je cult
 urele verwijzingen schrappen omdat het te veel wordt? Of kun je ze elders 
 toevoegen? Welke informatie heeft een Engelstalig publiek nodig om te begr
 ijpen wat er gebeurt en de draad niet kwijt te raken? Op internet kun je 
 elk dorp\, elke stad\, elk lokaal gerecht en elke gekke uitdrukking opzoek
 en en onderzoeken. Het is zeker de moeite waard om dit te doen tijdens het
  vertalen\, maar je moet oppassen voor valkuilen. Ellen Singer werkt momen
 teel aan de vertaling van het vijfde Bermejo en Roncero-boek\, een reeks d
 etectives. Ze werkt hierbij nauw samen met redacteur Gwenydd Jones en ‘s
 anity checker’ Enrico. De Spaanse auteur\, Armando Rodera\, is van begin
  tot eind bij het proces betrokken\, en controleert de vertaling op basis 
 van tweetalige fragmenten\, waarbij ook uitleg wordt gegeven over het waar
 om van een vertaalkeuze. “Context is everything”\, zoals wij allemaal 
 maar al te goed weten! In deze webinar vertelt ze meer over de samenwerkin
 g en de aanpak die het team heeft ontwikkeld\, hoe ze het onderlinge vertr
 ouwen hebben opgebouwd\, de best practices die ze toepassen\, en ook gaat 
 ze in op interessante discussies die ze met de auteur hebben. Voor deze pr
 esentatie zijn 2 PE-punten te verkrijgen. Daarvoor dien je het digitale 
 evaluatieformulier in te vullen en te uploaden. Je ontvangt dan het certif
 icaat in je mailbox\, direct van NGTV. Spreekster Ellen Singer is geboren 
 in Nederland\, maar getogen in Uruguay en Argentinië\, waar ze momenteel 
 ook het grootste deel van het jaar woont. Ze heeft meer dan vijfentwintig 
 jaar ervaring in het vertaalvak en veel technische teksten vertaald\, voor
 al veel software\, maar ook allerlei andere documenten\, van afvalverwerki
 ngssystemen tot zaaimachinehandleidingen. De laatste tien jaar zijn hier v
 ertalingen over toerisme\, cultuur\, voorstellingen en eten bij gekomen. W
 e zien jullie graag bij het webinar op 9 maart! Met vriendelijke groet\, A
 mmerins Moss-de Boer\, Enrico Koper en Ellen Singer  E: engelse.krin
 g@ngtv.nl
DTSTART:20260309T183000Z
DTEND:20260309T200000Z
LOCATION:Online via MS Teams
END:VEVENT
BEGIN:VTIMEZONE
TZID:UTC
BEGIN:STANDARD
DTSTART:20260309T183000
TZNAME:UTC
TZOFFSETTO:+0000
TZOFFSETFROM:+0000
END:STANDARD
END:VTIMEZONE
END:VCALENDAR
